BEGIN:VCALENDAR
VERSION:2.0
PRODID:www.gruene-viersen.de
METHOD:PUBLISH
BEGIN:VTIMEZONE
TZID:Europe/Berlin
X-LIC-LOCATION:Europe/Berlin
BEGIN:DAYLIGHT
TZOFFSETFROM:+0100
TZOFFSETTO:+0200
TZNAME:CEST
DTSTART:19700329T020000
RRULE:FREQ=YEARLY;INTERVAL=1;BYDAY=-1SU;BYMONTH=3
END:DAYLIGHT
BEGIN:STANDARD
TZOFFSETFROM:+0200
TZOFFSETTO:+0100
TZNAME:CET
DTSTART:19701025T030000
RRULE:FREQ=YEARLY;INTERVAL=1;BYDAY=-1SU;BYMONTH=10
END:STANDARD
END:VTIMEZONE
BEGIN:VEVENT
UID:f6320aa9dd881f5333b6755419de6637@www.gruene-viersen.de
URL;VALUE=URI:https://www.gruene-viersen.de/termine/gruene-laden-zur-wald
 wanderung-ein/
LOCATION:Parkplatz am Steinlabyrinth auf dem Aachener Weg, Viersen
SUMMARY:Grüne laden zur Waldwanderung ein
DESCRIPTION;ALTREP="data:text/html,Der%20Ortsverband%20von%20B%C3%BCndnis
 90%2FDIE%20GR%C3%9CNEN%20Viersen%20veranstaltet%20am%20Montag%2C%207.%20S
 eptember%202020%2C%20eine%20Waldwanderung%20auf%20dem%20Hohen%20Busch%20u
 nd%20l%C3%A4dt%20dazu%20alle%20Interessierten%20herzlich%20ein.%20Nach%20
 drei%20D%C3%BCrresommern%2C%20orkanartigen%20St%C3%BCrmen%20und%20einer%2
 0massiven%20Vermehrung%20von%20Borkenk%C3%A4fern%20geht%20es%20dem%20Wald
 %20in%20Viersen%20so%20schlecht%20wie%20nie.%20Grund%20daf%C3%BCr%20ist%2
 0der%20menschengemachte%20Klimawandel%2C%20mit%20dem%20viele%20heimische%
 20Baumarten%20nur%20schwer%20zurecht%20kommen.%20Wie%20sich%20die%20Lage%
 20derzeit%20darstellt%2C%20ob%20klimaresiliente%20Baumarten%20die%20L%C3%
 B6sung%20sind%20oder%20eher%20eine%20vollkommen%20nat%C3%BCrliche%20Walde
 ntwicklung%20ohne%20menschliches%20Zutun%2C%20das%20wei%C3%9F%20Gabriele%
 20Heckmanns%2C%20studierte%20Biologin%20und%20Inhaberin%20der%20AIRA%20He
 ilpflanzenschule%2C%20die%20die%20Waldwanderung%20fachlich%20begleiten%20
 wird.%20Start%20ist%20um%2018.00%20Uhr%20auf%20dem%20Parkplatz%20am%20Ste
 inlabyrinth%20auf%20dem%20Aachener%20Weg%20in%20Viersen.%0A%0AWeitere%20I
 nformationen%3A%0A%3Cul%20type%3D%22disc%22%3E%0A%20%09%3Cli%3EAIRA%20Hei
 lpflanzenschule%3A%20%3Ca%20href%3D%22https%3A%2F%2Fwww.waldundwiesenflue
 stern.de%2F%22%20target%3D%22_blank%22%20rel%3D%22noopener%20noreferrer%2
 2%3Ehttps%3A%2F%2Fwww.waldundwiesenfluestern.de%2F%3C%2Fa%3E%3C%2Fli%3E%0
 A%20%09%3Cli%3EAntrag%20der%20Gr%C3%BCnen-Fraktion%3A%20Neubegr%C3%BCndun
 g%20von%20Waldfl%C3%A4chen%20auf%20st%C3%A4dtischem%20Grund%20%5B%3Ca%20h
 ref%3D%22https%3A%2F%2Fwordpress119.gcms.verdigado.net%2Fantrag-neubegrue
 ndung-von-waldflaechen-auf-staedtischem-grund%2F%22%20target%3D%22_blank%
 22%20rel%3D%22noopener%20noreferrer%22%3Ehttps%3A%2F%2Fwordpress119.gcms.
 verdigado.net%2Fantrag-neubegruendung-von-waldflaechen-auf-staedtischem-g
 rund%2F%3C%2Fa%3E%5D%3C%2Fli%3E%0A%3C%2Ful%3E":Der Ortsverband von Bündn
 is90/DIE GRÜNEN Viersen veranstaltet am Montag\, 7. September 2020\, ein
 e Waldwanderung auf dem Hohen Busch und lädt dazu alle Interessierten he
 rzlich ein. Nach drei Dürresommern\, orkanartigen Stürmen und einer mas
 siven Vermehrung von Borkenkäfern geht es dem Wald in Viersen so schlech
 t wie nie. Grund dafür ist der menschengemachte Klimawandel\, mit dem vi
 ele heimische Baumarten nur schwer zurecht kommen. Wie sich die Lage derz
 eit darstellt\, ob klimaresiliente Baumarten die Lösung sind oder eher e
 ine vollkommen natürliche Waldentwicklung ohne menschliches Zutun\, das 
 weiß Gabriele Heckmanns\, studierte Biologin und Inhaberin der AIRA Heil
 pflanzenschule\, die die Waldwanderung fachlich begleiten wird. Start ist
  um 18.00 Uhr auf dem Parkplatz am Steinlabyrinth auf dem Aachener Weg in
  Viersen.\n\nWeitere Informationen:\n\n 	AIRA Heilpflanzenschule: https:/
 /www.waldundwiesenfluestern.de/\n\n 	Antrag der Grünen-Fraktion: Neubegr
 ündung von Waldflächen auf städtischem Grund [https://wordpress119.gcm
 s.verdigado.net/antrag-neubegruendung-von-waldflaechen-auf-staedtischem-g
 rund/]
CLASS:PUBLIC
DTSTART;TZID=Europe/Berlin:20200907T180000
DTEND;TZID=Europe/Berlin:20200907T200000
DTSTAMP:20260426T013619
END:VEVENT
END:VCALENDAR